BEGIN:VCALENDAR
VERSION:2.0
PRODID:-//Deutscher Land Rover Club - ECPv6.15.20//NONSGML v1.0//EN
CALSCALE:GREGORIAN
METHOD:PUBLISH
X-WR-CALNAME:Deutscher Land Rover Club
X-ORIGINAL-URL:https://www.dlrc.org
X-WR-CALDESC:Veranstaltungen für Deutscher Land Rover Club
REFRESH-INTERVAL;VALUE=DURATION:PT1H
X-Robots-Tag:noindex
X-PUBLISHED-TTL:PT1H
BEGIN:VTIMEZONE
TZID:Europe/Berlin
BEGIN:DAYLIGHT
TZOFFSETFROM:+0100
TZOFFSETTO:+0200
TZNAME:CEST
DTSTART:20230326T010000
END:DAYLIGHT
BEGIN:STANDARD
TZOFFSETFROM:+0200
TZOFFSETTO:+0100
TZNAME:CET
DTSTART:20231029T010000
END:STANDARD
BEGIN:DAYLIGHT
TZOFFSETFROM:+0100
TZOFFSETTO:+0200
TZNAME:CEST
DTSTART:20240331T010000
END:DAYLIGHT
BEGIN:STANDARD
TZOFFSETFROM:+0200
TZOFFSETTO:+0100
TZNAME:CET
DTSTART:20241027T010000
END:STANDARD
BEGIN:DAYLIGHT
TZOFFSETFROM:+0100
TZOFFSETTO:+0200
TZNAME:CEST
DTSTART:20250330T010000
END:DAYLIGHT
BEGIN:STANDARD
TZOFFSETFROM:+0200
TZOFFSETTO:+0100
TZNAME:CET
DTSTART:20251026T010000
END:STANDARD
END:VTIMEZONE
BEGIN:VEVENT
DTSTART;TZID=Europe/Berlin:20240308T120000
DTEND;TZID=Europe/Berlin:20240310T140000
DTSTAMP:20260422T103931
CREATED:20240105T153031Z
LAST-MODIFIED:20240105T154243Z
UID:10000112-1709899200-1710079200@www.dlrc.org
SUMMARY:Frühjahrserwachen der LG 06 NRW
DESCRIPTION:Diverse Ausflugsziele im nahen Umkreis\nSchwenkgrill und Holz vorhanden\nBegrenzte Schlafmöglichkeiten im Haus\nDusche und WC im Haus\nStromanschluss für Camper vorhanden \nBegrenzte Teilnehmerzahl\, daher ist eine  Anmeldung unbedingt erforderlich beim stellv. LO Martin Fick unter  nordrhein-westfalen@dlrc.org \n 
URL:https://www.dlrc.org/event/adventstreffen-der-lg-06-nrw/
LOCATION:IPA-Haus Siegerland\, Auf den Weiden\, Netphen-Deuz\, 57250
CATEGORIES:LG 06 NRW
ORGANIZER;CN="DLRC LG 06 NRW":MAILTO:nordrhein-westfalen@dlrc.org
END:VEVENT
BEGIN:VEVENT
DTSTART;TZID=Europe/Berlin:20240316T120000
DTEND;TZID=Europe/Berlin:20240318T120000
DTSTAMP:20260422T103931
CREATED:20231127T184030Z
LAST-MODIFIED:20241110T170406Z
UID:10000091-1710590400-1710763200@www.dlrc.org
SUMMARY:8. Wintertreffen am Nord-Ostsee-Kanal der LG 02 SH
DESCRIPTION:Gemütliches Beisammensein ab 12 Uhr am Samstag in einem beheizten Raum mit Getränke-Ausschank. Bei Kaffee und Kuchen werden wir\, sofern ihr welche mitbringt\, Filme und Reiseberichte ansehen. Nach einem Päuschen in frischer Luft – früher Raucherpause genannt – gibt es Grünkohl mit Kassler\, Bauchfleisch und Kohlwurst. Danach könnte bei Bedarf der 2. Teil der Filmvorführung stattfinden und bei Getränken und Klönschnack lassen wir den Abend gemütlich ausklingen. \nÜbernachtet wird im eigenen Landy\, Dachzelt\, Wohnwagen usw. oder im Motelzimmer. Nach dem gemeinsamen Frühstück wird abgerödelt und die Heimreise angetreten. \nGeboten wird für ca. 40 EUR pro Person Kaffee und Kuchen\, Grünkohl satt und Frühstück. Preise für das Motel-Zimmer auf Anfrage bei Anmeldung \nVerbindliche Anmeldung bis 03. März 2024 an die LO Achim Hennig oder Yvonne Horeis unter schleswig-holstein@dlrc.org und anschließender Überweisung des Betrages vor dem Treffen. Details gibt es bei der telefonischen Anmeldung.
URL:https://www.dlrc.org/event/6-schleswig-holsteinisches-wintertreffen-am-nord-ostsee-kanal/
CATEGORIES:LG 02 SH
ORGANIZER;CN="DLRC LG 02 SH":MAILTO:schleswig-holstein@dlrc.org
END:VEVENT
BEGIN:VEVENT
DTSTART;TZID=Europe/Berlin:20240323T120000
DTEND;TZID=Europe/Berlin:20240324T150000
DTSTAMP:20260422T103931
CREATED:20231130T192651Z
LAST-MODIFIED:20240118T183219Z
UID:10000154-1711195200-1711292400@www.dlrc.org
SUMMARY:Stammtisch unterwegs im März der LG 10 BW
DESCRIPTION:The Länd meets de Palz \n			\n			\n				\n				\n				\n				\n				\n				\n				\n				\n				\n				\n			\n			\n				\n				\n				\n				\n			\n				\n				\n				\n				\n				\n				\n				\n				\n				\n				\n				  \nAm Wochenende 23./24. März 2024 ist der Stammtisch zum Weingut Fitz-Ritter nach Bad Dürkheim unterwegs. Das Weingut Fitz-Ritter ist die älteste Sektkellerei der Pfalz. \nTreffpunkt am Samstag um 12 Uhr am Weingut. In der Vinothek besteht die Möglichkeit\,  Flammkuchen und Getränke zu bestellen oder eigene Verpflegung mitzubringen. \nDie Führung startet um ca. 14 Uhr. Nach der Führung erwartet uns eine Wein- und Sektprobe (16 EUR/Person – Bezahlung vor Ort). Nach der Wein- und Sektprobe besteht die Möglichkeit bei einem kleinen Spaziergang Bad Dürkheim näher kennenzulernen. Abends treffen wir uns dann wieder zum gemeinsamen Abendessen (jeder zahlt selbst) im legendären Riesen-Fass. \nNach einem gemeinsamen Frühstück im Weingut am Sonntag erkundigen wir die Umgebung von Bad Dürkheim per Pedes oder per Landy – die endgültige Entscheidung wird am Samstag gefällt. Wenn jeder etwas für das Frühstück mitbringt\, dann haben wir ein reichhaltiges Frühstücksbuffet. Für Brötchen\, Brezeln\, Croissant\, Kaffee und Tee sorgt der DLRC. \nAnfahrt: \nvon Osten: A6-Dreieck Hockenheim-A650-B37-nach Kreisverkehr ca. 150m rechts \nvon Süden: A65-Deidesheim-B271-B37-nach Kreisverkehr ca. 150m rechts; \nvon Westen: B37-durch Bad Dürkheim (auf der Weinstraße Nord) und gegenüber dem Riesenfass zum Weingut links abbiegen. \n  \nDie Übernachtungen bucht bitte jeder selbst: \n\nÜbernachtet werden kann auf einem Wohnmobil-Stellplatz an der L517 (ohne Vorbestellung und Sanitäranlagen)\, ca. 700m vom Weingut/Riesenfass entfernt oder auf dem\nKnaus Campingpark\, In den Almen 1\, 67098 Bad Dürkheim\, ca. 2\,5km entfernt: https://www.knauscamp.de/bad-duerkheim\nEine begrenzte Anzahl an Zimmern (mit Gemeinschaftsbad) gibt es auch im Weingut selbst: fitz-ritter.de/ritterhof-gaestezimmer\n\nAnmeldung bis 8. März 2024 über untenstehenden Button. \nInfos – keine Anmeldung beim LO: baden-wuerttemberg@dlrc.org \nDie Mitglieder der Landesgruppe Rheinland-Pfalz sind zur Teilnahme herzlich eingeladen - alle anderen Landesgruppen natürlich auch! \n 
URL:https://www.dlrc.org/event/stammtisch-unterwegs-im-maerz-der-lg-10-bw-2/
LOCATION:Weingut Fitz-Ritter\, Weinstraße Nord 51\, Bad Dürkheim\, 67098
CATEGORIES:LG 10 BW
ORGANIZER;CN="DLRC LG 10 BW":MAILTO:baden-wuerttemberg@dlrc.org
END:VEVENT
END:VCALENDAR