BEGIN:VCALENDAR
VERSION:2.0
PRODID:-//Deutscher Land Rover Club - ECPv6.15.20//NONSGML v1.0//EN
CALSCALE:GREGORIAN
METHOD:PUBLISH
X-WR-CALNAME:Deutscher Land Rover Club
X-ORIGINAL-URL:https://www.dlrc.org
X-WR-CALDESC:Veranstaltungen für Deutscher Land Rover Club
REFRESH-INTERVAL;VALUE=DURATION:PT1H
X-Robots-Tag:noindex
X-PUBLISHED-TTL:PT1H
BEGIN:VTIMEZONE
TZID:Europe/Berlin
BEGIN:DAYLIGHT
TZOFFSETFROM:+0100
TZOFFSETTO:+0200
TZNAME:CEST
DTSTART:20230326T010000
END:DAYLIGHT
BEGIN:STANDARD
TZOFFSETFROM:+0200
TZOFFSETTO:+0100
TZNAME:CET
DTSTART:20231029T010000
END:STANDARD
BEGIN:DAYLIGHT
TZOFFSETFROM:+0100
TZOFFSETTO:+0200
TZNAME:CEST
DTSTART:20240331T010000
END:DAYLIGHT
BEGIN:STANDARD
TZOFFSETFROM:+0200
TZOFFSETTO:+0100
TZNAME:CET
DTSTART:20241027T010000
END:STANDARD
BEGIN:DAYLIGHT
TZOFFSETFROM:+0100
TZOFFSETTO:+0200
TZNAME:CEST
DTSTART:20250330T010000
END:DAYLIGHT
BEGIN:STANDARD
TZOFFSETFROM:+0200
TZOFFSETTO:+0100
TZNAME:CET
DTSTART:20251026T010000
END:STANDARD
END:VTIMEZONE
BEGIN:VEVENT
DTSTART;TZID=Europe/Berlin:20240726T160000
DTEND;TZID=Europe/Berlin:20240804T120000
DTSTAMP:20260420T170715
CREATED:20240205T190003Z
LAST-MODIFIED:20240205T195311Z
UID:10000116-1722009600-1722772800@www.dlrc.org
SUMMARY:Der Landy macht Urlaub auf Rügen!
DESCRIPTION:Erneuter Versuch. die Insel Rügen mit dem Landy zu erobern. \nVom Freitag\, 26.Juli bis Sonntag. 4. August 2024 treffen wir uns auf einer schönen Wiese auf Rügen. Es gibt kein festes Programm. Wir entscheiden jeweils an der Gemeinschaftstafel\, was am nächsten Tag anliegt. \nGeboten werden Luxus-Dixies und ein Duschwagen\, schöne Stellplätze ohne Strom\, Shelter für die Futtermeile und Raum für Lagerfeuergespräche\, Spontanexkursionen und kulinarische Exzesse aller Art. \nIn der Nähe gibt es Einkaufsmöglichkeiten und eine idyllische Badestelle. \nEs fallen folgende Kosten an: ca. 100 € pro Person für die ganze Woche. An- und Abreise sind jederzeit möglich. \nAnmeldung nur beim LO der LG 02 Achim Hennig LO unter schleswig-holstein@dlrc.org \nAnreisebeschreibung gibt es mit der Anmeldebestätigung.
URL:https://www.dlrc.org/event/der-landy-macht-urlaub-auf-ruegen/
CATEGORIES:LG 02 SH
ORGANIZER;CN="DLRC LG 02 SH":MAILTO:schleswig-holstein@dlrc.org
END:VEVENT
BEGIN:VEVENT
DTSTART;TZID=Europe/Berlin:20240802T120000
DTEND;TZID=Europe/Berlin:20240804T140000
DTSTAMP:20260420T170715
CREATED:20240302T184653Z
LAST-MODIFIED:20260403T042213Z
UID:10000162-1722600000-1722780000@www.dlrc.org
SUMMARY:Allgäutreffen der LG 10 BW und LG 11 BY
DESCRIPTION: \n \n \nEs fließt wieder „Milch & Honig“......\n  \n  \n......beim gemütlichen Campwochenende auf der grünen Wiese beim Milchviehbetrieb Lutz in Böhen bei Altusried. \nGeboten wird Lagerfeuer (Witterungsabhängig)\, je nach Unterstützung einen kleinen Trial oder einen Spaß-Trophy in der Rückegasse\, Wandermöglichkeiten\, Allgäu-Rundfahrten mit interessanten Anlaufpunkten oder einfach nur das Landleben genießen… \nDixis und Brauchwasser sind vorhanden\, ein Wirtshaus und Metzger in ca. 2 km Entfernung. Nach alter Bayern-Tradition dürft Ihr gerne eine Bier- oder sonstige Getränkespezialität aus eurer Region mitbringen. \nAnreise Freitag ab 12 Uhr möglich \nWeitergehende Informationen (keine Anmeldung) bei Volker Steingrube unter 0151 42852430 oder trial@dlrc.org \nAnmeldung bitte bis zum 28.07.2024 über den untenstehenden Button
URL:https://www.dlrc.org/event/allgaeutreffen-der-lg-10-bw-und-lg-11-by/
LOCATION:Böhen
CATEGORIES:LG 10 BW,LG 11 BY
ORGANIZER;CN="DLRC LG 10 BW":MAILTO:baden-wuerttemberg@dlrc.org
END:VEVENT
BEGIN:VEVENT
DTSTART;TZID=Europe/Berlin:20240816T160000
DTEND;TZID=Europe/Berlin:20240818T140000
DTSTAMP:20260420T170715
CREATED:20240508T210052Z
LAST-MODIFIED:20240508T210819Z
UID:10000114-1723824000-1723989600@www.dlrc.org
SUMMARY:Teilemarkt-Treffen in der Altmark der LG 03 HH
DESCRIPTION:Ich\, Jens Schröder (Termite) LG 3 und Ullrich Frank veranstalten das erste Teilemarkt-Treffen in der Altmark in Sachsen-Anhalt. Zusammen haben wir schon das erste und zweite Hamburger Trophy-Training des DLRC veranstaltet. Ullrich ist vor einiger Zeit von Hamburg nach Kalbe an der Milde gezogen. Dort hat er das Grundstück einer ehemaligen Brauerei erworben. Hier gibt es genug Platz für Landies\, Wohnwagen oder Zelte und das Teilemarkt-Treffen. \nFreitag: \nAnreise\, abends gemeinsames Grillen und Lagerfeuer mit Benzin/Diesel-Gesprächen. \nSamstag: \nGemütliches Frühstück (Selbstversorgung)\, ab ca. 10 Uhr startet der „Teilemarkt“. Geplant ist eine Roadbooktour/Green Laning. Abends gemeinsames Grillen und Lagerfeuer mit Benzin/Diesel-Gesprächen. \nSonntag: \nGemütliches Frühstück (Selbstversorgung) und Abreise. \nAnfahrt:\nVon der B71 aus Norden von 29410 Salzwedel oder aus Süden von 39638 Gardelegen\, auf die L21 Richtung Kalbe (Milde) abbiegen. Etwa 6 km der L21 folgen bis nach Kalbe (Milde) Hier heißt die L21 dann Wernstedter Straße. Ihr folgen\, dann nach dem Netto-Markt rechts in die Schulstraße biegen. Nach der Stadtapotheke rechts in die Westpromenade biegen. Nach ca. 200 m links in die Hofeinfahrt der „Alten Brauerei“ biegen. Der alte Ziegelstein-Schornstein ist schon von weitem zu erkennen. \nAnmeldung und Info beim stellv. LO der LG 03 Jens Schröder: hamburg@dlrc.org
URL:https://www.dlrc.org/event/teilemarkt-treffen-in-der-altmark-der-lg-03-hh/
LOCATION:Alte Brauerei\, Westpromenade\, Kalbe (Milde)\, 39624
CATEGORIES:LG 03 HH
ORGANIZER;CN="DLRC LG 03 HH":MAILTO:hamburg@dlrc.org
END:VEVENT
BEGIN:VEVENT
DTSTART;TZID=Europe/Berlin:20240817T090000
DTEND;TZID=Europe/Berlin:20240818T163000
DTSTAMP:20260420T170715
CREATED:20240228T204527Z
LAST-MODIFIED:20260403T042211Z
UID:10000082-1723885200-1723998600@www.dlrc.org
SUMMARY:Landy im Gelände im Doppelpack
DESCRIPTION:So wird es richtig gemacht!\n  \nLiebe Mitglieder\, \ndie Mentoren von „Landy im Gelände“ sind auch 2024 wieder aktiv:  \nAm Samstag\, den 17.08.2024 bieten wir von 09.00 Uhr bis 18.00 Uhr im Ultraterrain\, Steinbruch Geisingen in 78187 Geisingen (www.ultraterrain.de) „Grundlagen Geländefahren“ an. Dabei vermitteln wir nicht nur Grundlagen\, sondern es werden alle Aspekte des Fahrens im Gelände und deren eventuellen Folgen in Theorie und Praxis behandelt. Den Schwerpunkt bilden die Grundlagen des Geländefahrens und das Fahren im Gelände. \nFalls Ihr dann trotzdem mal hängenbleiben solltet und eine Bergung ansteht\, vermitteln wir Euch am Sonntag\, den 18.08.2024 im Raum Villingen-Schwenningen den „Sicheren Aufbau und Einsatz von Seilzügen und Bergemitteln“. \nEine Übernachtungsmöglichkeit ist gegeben. Die Eigenbeteiligung für das Fahrgelände wird zwischen 20 und 35€ betragen. \nAnmeldung bitte über den untenstehenden Button bis zum 01.08.2024 \nInformationen (keine Anmeldung) unter bergenabersicher@dlrc.org \n 
URL:https://www.dlrc.org/event/grundlagenfahrtraining-von-landy-im-gelaende-2/
LOCATION:Ultraterrain\, Steinbruch Geisingen\, Geisingen\, 78187
CATEGORIES:Landy im Gelände
ORGANIZER;CN="DLRC Landy im Gel%C3%A4nde - Bergen%2C aber sicher!":MAILTO:bergenabersicher@dlrc.org
END:VEVENT
BEGIN:VEVENT
DTSTART;TZID=Europe/Berlin:20240823T120000
DTEND;TZID=Europe/Berlin:20240825T150000
DTSTAMP:20260420T170715
CREATED:20240506T192940Z
LAST-MODIFIED:20240506T192940Z
UID:10000168-1724414400-1724598000@www.dlrc.org
SUMMARY:Sommerfest der LG12 TH und 13 SN
DESCRIPTION:In das Treffen starten wir am Freitag um 16:00 Uhr zu einer Führung mit Andi durch die Whiskywelt Burg Scharfenstein. \nAm Samstag geht es dann ab ca. 10:00 Uhr auf 2 Achsen los zu einer gemeinsamen Ausfahrt mit Highlight & Picknick unterwegs. Per Pedes gibt es auch Wandermöglichkeiten in der Umgebung. \nAbends dann ab ca. 18:00 Uhr gemeinsames Rovercooking und Feuerschalen-Hock. Jeder steuert ein paar Portionen seines Lieblings-Unterwegs-Gerichtes zum Rovercooking bei: Brote\, Salate\, Grillgerichte\, Suppen\, DutchOven\, Desserts\, Obst\, Gebäck\, Knabberzeug usw.. Kochgelegenheiten sind vorhanden. Bitte bringt Feuerholz\, Grillkohle und Getränke mit. Einen Brötchenservice zum Frühstück organisieren wir\, sonst ist Selbstversorgung angesagt. \nAuf dem Campgelände sind sehr ordentliche Sanitärräume incl. Duschen vorhanden. Den Unkostenbeitrag in Höhe von 15€/Person für den Stellplatz (incl. Sanitär\, Wasser und Strom incl.) bezahlt jeder selbst. Eine begrenzte Vermittlung von Übernachtungsmöglichkeiten ist möglich\, bitte anfragen! \nUm Anmeldung beim LO Maik Weber unter thueringen-sachsen@dlrc.org bis spätestens 09.08.2024 wird gebeten. Spontan geht natürlich auch immer. \nHerzliche Grüße \nMaik Weber
URL:https://www.dlrc.org/event/sommerfest-der-lg12-th-und-13-sn/
LOCATION:Burg Scharfenstein\, Scharfenstein 3\, Leinefelde-Worbis\, 37327
CATEGORIES:LG 12 TH, 13 SN
ORGANIZER;CN="DLRC LG 12 TH%2C 13 SN":MAILTO:thueringen-sachsen@dlrc.org
GEO:51°21'47.6"N;10°15'59.7"E
X-APPLE-STRUCTURED-LOCATION;VALUE=URI;X-ADDRESS=Burg Scharfenstein Scharfenstein 3 Leinefelde-Worbis 37327;X-APPLE-RADIUS=500;X-TITLE=Scharfenstein 3:geo:10°15'59.7"E,51°21'47.6"N
END:VEVENT
BEGIN:VEVENT
DTSTART;TZID=Europe/Berlin:20240830T130000
DTEND;TZID=Europe/Berlin:20240901T160000
DTSTAMP:20260420T170715
CREATED:20240706T184623Z
LAST-MODIFIED:20240706T184623Z
UID:10000174-1725022800-1725206400@www.dlrc.org
SUMMARY:Sommertreffen der LG 06 NRW
DESCRIPTION:Am letzten Augustwochenende wollen wir in Wetter an der Ruhr\, nachdem der Sommer ja bisher eher feucht und nass war\, ein Treffen mit Sommerwetter machen. \nFreitag \n\nAnreise ab 13:00 Uhr\nschon mal einen Trial für Samstag stecken.\nAbends gemeinsames Grillen und Lagerfeuer\n\nSamstag: \n\nGemütliches Frühstück mit frischen Brötchen\nGemeinsame Ausfahrt\nTrial auf dem Gelände\nAbends gemeinsames Spießbratengrillen und Lagerfeuer\n\nSonntag: \n\nGemütliches Frühstück\nBesuch des „Industriemuseum in Ennepetal mit Oldtimertreffen“\nIndividuelle Abreise\n\nInfo und Anmeldung bitte bei Björn Kasimir per E-Mail unter nordrhein-westfalen@dlrc.org \n 
URL:https://www.dlrc.org/event/sommertreffen-der-lg-06-nrw/
LOCATION:Esborner Mühle\, Am Overbeck 84\, Wetter\, 58300
CATEGORIES:LG 06 NRW
ORGANIZER;CN="DLRC LG 06 NRW":MAILTO:nordrhein-westfalen@dlrc.org
END:VEVENT
BEGIN:VEVENT
DTSTART;TZID=Europe/Berlin:20240831T120000
DTEND;TZID=Europe/Berlin:20240901T170000
DTSTAMP:20260420T170715
CREATED:20240508T210017Z
LAST-MODIFIED:20240508T212550Z
UID:10000081-1725105600-1725210000@www.dlrc.org
SUMMARY:Oldietreffen an der Lok der LG 04 HB/05 NI
DESCRIPTION:Samstag: Aufbau unserer Ausstellung mit Campleben und Ausflug nach Hannover und Umgebung. Abends dann grillen\, Lagerfeuer und das Übliche… \nSonntagvormittag: Großes Oldtimertreffen mit DLRC-Ausstellung\, danach eventuell großer Corso durch Garbsen ohne Ampeln \nFreitag- und Samstagabend: Grillen\, Lagerfeuer und das Übliche…. \nWo: Möbel Hesse in Garbsen bei Hannover neben der alten Ziegeleischeune \nInfrastruktur: Beton-Camping auf dem Parkplatz-Gelände mit Grünstreifen\, Selbstversorgung\, Toilette\, simple Dusche und zentraler Grill sind vorhanden \nAnmeldung mit Beschreibung des Fahrzeugs (Oldtimer) erwünscht bis zum 10.08\,2024 bei den LO Stefan und Reiner unter niedersachsen@dlrc.org
URL:https://www.dlrc.org/event/oldietreffen-an-der-lok-der-lg-04-hb-05-ni/
CATEGORIES:LG 04 HB, 05 NI
ORGANIZER;CN="DLRC LG 05 NI%2C 04 HB":MAILTO:niedersachsen@dlrc.org
END:VEVENT
END:VCALENDAR