BEGIN:VCALENDAR
VERSION:2.0
PRODID:-//Deutscher Land Rover Club - ECPv6.15.20//NONSGML v1.0//EN
CALSCALE:GREGORIAN
METHOD:PUBLISH
X-ORIGINAL-URL:https://www.dlrc.org
X-WR-CALDESC:Veranstaltungen für Deutscher Land Rover Club
REFRESH-INTERVAL;VALUE=DURATION:PT1H
X-Robots-Tag:noindex
X-PUBLISHED-TTL:PT1H
BEGIN:VTIMEZONE
TZID:Europe/Berlin
BEGIN:DAYLIGHT
TZOFFSETFROM:+0100
TZOFFSETTO:+0200
TZNAME:CEST
DTSTART:20250330T010000
END:DAYLIGHT
BEGIN:STANDARD
TZOFFSETFROM:+0200
TZOFFSETTO:+0100
TZNAME:CET
DTSTART:20251026T010000
END:STANDARD
BEGIN:DAYLIGHT
TZOFFSETFROM:+0100
TZOFFSETTO:+0200
TZNAME:CEST
DTSTART:20260329T010000
END:DAYLIGHT
BEGIN:STANDARD
TZOFFSETFROM:+0200
TZOFFSETTO:+0100
TZNAME:CET
DTSTART:20261025T010000
END:STANDARD
BEGIN:DAYLIGHT
TZOFFSETFROM:+0100
TZOFFSETTO:+0200
TZNAME:CEST
DTSTART:20270328T010000
END:DAYLIGHT
BEGIN:STANDARD
TZOFFSETFROM:+0200
TZOFFSETTO:+0100
TZNAME:CET
DTSTART:20271031T010000
END:STANDARD
END:VTIMEZONE
BEGIN:VEVENT
DTSTART;TZID=Europe/Berlin:20260724T070000
DTEND;TZID=Europe/Berlin:20260726T140000
DTSTAMP:20260422T104836
CREATED:20260301T152031Z
LAST-MODIFIED:20260403T042235Z
UID:10000273-1784876400-1785074400@www.dlrc.org
SUMMARY:Geländetreffen Bramsche der LG 06 NRW
DESCRIPTION:Einladung zum Geländetreffen \nin Bramsche\n  \nUnser inzwischen traditionsreiches Geländetreffen in Bramsche findet auch in diesem Jahr wieder mitten im Sommer statt. Willkommen sind alle Landys\, ebenso wie Nicht-Landys – auch RC-Fahrzeuge dürfen sich auf dem Gelände bewegen. \nDas Fahrgelände ist zwar überschaubar\, bietet aber für jeden Anspruch passende Herausforderungen. Dank der kurzen Wege kommen auch Zuschauer voll auf ihre Kosten. Einsteiger sind herzlich willkommen. Bei Unsicherheiten im Gelände helfen unsere Mentoren gerne weiter. \nBramsche steht für echtes Outdoor-Feeling: Camping direkt am Fahrgelände\, große Wiese\, Selbstversorgung\, Dixi Toiletten – sonst kein Strom\, kein Wasser\, keine Duschen. \nProgramm \nFreitag\, 24.07.26 \n\nAnreise\nAbends gemeinsames Grillen und Lagerfeuer\n\nSamstag\, 25.07.26 \n\nGemütliches Frühstück mit frischen Brötchen\nGeländefahren oder Erkunden der Umgebung\nAbends gemeinsames Grillen und Lagerfeuer\n\nSonntag\, 26.07.26 \n\nGemütliches Frühstück mit frischen Brötchen\nAbreise\n\nAnmeldungen über untenstehenden Button bis zum 19.07.2026 \nInfos und Fragen unter nordrhein-westfalen@dlrc.org \n 
URL:https://www.dlrc.org/event/gelaendetreffen-bramsche-der-lg-06-nrw-2/
LOCATION:SSC Bramsche\, Im Rehhagen\, Bramsche\, 49565
CATEGORIES:LG 06 NRW
ORGANIZER;CN="DLRC LG 06 NRW":MAILTO:nordrhein-westfalen@dlrc.org
END:VEVENT
END:VCALENDAR