BEGIN:VCALENDAR
VERSION:2.0
PRODID:-//Deutscher Land Rover Club - ECPv6.15.20//NONSGML v1.0//EN
CALSCALE:GREGORIAN
METHOD:PUBLISH
X-ORIGINAL-URL:https://www.dlrc.org
X-WR-CALDESC:Veranstaltungen für Deutscher Land Rover Club
REFRESH-INTERVAL;VALUE=DURATION:PT1H
X-Robots-Tag:noindex
X-PUBLISHED-TTL:PT1H
BEGIN:VTIMEZONE
TZID:Europe/Berlin
BEGIN:DAYLIGHT
TZOFFSETFROM:+0100
TZOFFSETTO:+0200
TZNAME:CEST
DTSTART:20230326T010000
END:DAYLIGHT
BEGIN:STANDARD
TZOFFSETFROM:+0200
TZOFFSETTO:+0100
TZNAME:CET
DTSTART:20231029T010000
END:STANDARD
BEGIN:DAYLIGHT
TZOFFSETFROM:+0100
TZOFFSETTO:+0200
TZNAME:CEST
DTSTART:20240331T010000
END:DAYLIGHT
BEGIN:STANDARD
TZOFFSETFROM:+0200
TZOFFSETTO:+0100
TZNAME:CET
DTSTART:20241027T010000
END:STANDARD
BEGIN:DAYLIGHT
TZOFFSETFROM:+0100
TZOFFSETTO:+0200
TZNAME:CEST
DTSTART:20250330T010000
END:DAYLIGHT
BEGIN:STANDARD
TZOFFSETFROM:+0200
TZOFFSETTO:+0100
TZNAME:CET
DTSTART:20251026T010000
END:STANDARD
BEGIN:DAYLIGHT
TZOFFSETFROM:+0100
TZOFFSETTO:+0200
TZNAME:CEST
DTSTART:20260329T010000
END:DAYLIGHT
BEGIN:STANDARD
TZOFFSETFROM:+0200
TZOFFSETTO:+0100
TZNAME:CET
DTSTART:20261025T010000
END:STANDARD
END:VTIMEZONE
BEGIN:VEVENT
DTSTART;TZID=Europe/Berlin:20240621T140000
DTEND;TZID=Europe/Berlin:20240623T120000
DTSTAMP:20260424T145333
CREATED:20240302T160045Z
LAST-MODIFIED:20240303T162309Z
UID:10000108-1718978400-1719144000@www.dlrc.org
SUMMARY:Camping- und Grillwochenende Tiroler Hütt`n (Skilift) Mitteleschenbach der LG 11 BY
DESCRIPTION:Unser Treffen findet wieder in der Mönchswaldgemeinde Mitteleschenbach statt. \nAdresse für Anreise via Navigation: Gundekarstraße\, 91734 Mitteleschenbach und der Beschilderung Skilift folgen\, N 49°12.121‘ E 010°47.791‘ \nInfrastruktur: \nEinfache Hütte im Mönchswald eingebettet. Kleines WC und Wasser vor Ort vorhanden. Strom für Camper teilweise vorhanden. Selbstversorger! \nFrühstück am Samstag und Sonntag je 7\,50 € Voranmeldung bis Freitagnachmittag notwendig). Getränke aus dem Kühlschrank (Augustiner\, Spalter und Limo/Spezi) 2 €. \nAußerdem bieten sich an: Ausflüge ins fränkische Seenland (Brombachsee\, Altmühlsee) mit Minigolf\, Fahrradverleih\, Badestrand und verschiedenes mehr. \nProgramm: \nFreitag: Anreise\, Lagerfeuer\, Grillen\, Selbstversorger \nSamstag: 16 Uhr Landesgruppenversammlung\, Lagerfeuer\, Grillen Selbstversorger \nSonntag: Abreise \nEine Anmeldung ist wieder wegen der eingeschränkten Platzmöglichkeit erforderlich\, diese bitte ausschließlich über untenstehenden Button! \nWeitere Informationen (keine Anmeldung) unter bayern@dlrc.org. \n 
URL:https://www.dlrc.org/event/einladung-zum-camping-und-grillwochenende-tiroler-huettn-skilift-mitteleschenbach-der-lg-11/
LOCATION:Mitteleschenbach\, Tiroler Hütt`n (Skilift)\, Mitteleschenbach\, 91734
CATEGORIES:LG 11 BY
ORGANIZER;CN="DLRC LG 11 BY":MAILTO:bayern@dlrc.org
END:VEVENT
BEGIN:VEVENT
DTSTART;TZID=Europe/Berlin:20250718T140000
DTEND;TZID=Europe/Berlin:20250720T120000
DTSTAMP:20260424T145333
CREATED:20250421T145933Z
LAST-MODIFIED:20250421T145950Z
UID:10000217-1752847200-1753012800@www.dlrc.org
SUMMARY:Camping- und Grillwochenende am "Skilift" in Mitteleschenbach der LG 11 BY
DESCRIPTION:Einladung zu unserem alljährlichen Treffen am “Skilift” in Mitteleschenbach\nDie einfache Hütte “Talstation” liegt im Mönchswald eingebettet. Kleines WC und Wasser vor Ort vorhanden. Als Programm biete sich an: Ausflüge ins fränkische Seenland (Brombachsee\, Altmühlsee) mit Minigolf\, Fahrradverleih\, Badestrand uvm. Für Samstag\, 19.07.25 wird es eine Ausfahrt/Roadbook-Tour geben. Anders als in den Vorjahren ist es diesmal ein reines Selbstversorger-Treffen! Und die Landesgruppenversammlung findet im September in Demling statt.\nAdresse für Anreise via Navigation: Gundekarstraße\, 91734 Mitteleschenbach – und der Beschilderung Skilift folgen. N49°12.121‘ E010°47.791‘ \nEine Anmeldung ist wieder wegen der eingeschränkten Platzmöglichkeit erforderlich\, diese bitte ausschließlich über untenstehenden Button! \nWeitere Informationen (keine Anmeldung) unter bayern@dlrc.org. \n 
URL:https://www.dlrc.org/event/camping-und-grillwochenende-am-skilift-in-mitteleschenbach-der-lg-11-by/
LOCATION:Mitteleschenbach\, Tiroler Hütt`n (Skilift)\, Mitteleschenbach\, 91734
CATEGORIES:LG 11 BY
ORGANIZER;CN="DLRC LG 11 BY":MAILTO:bayern@dlrc.org
END:VEVENT
BEGIN:VEVENT
DTSTART;TZID=Europe/Berlin:20250906T160000
DTEND;TZID=Europe/Berlin:20250906T170000
DTSTAMP:20260424T145333
CREATED:20250406T202545Z
LAST-MODIFIED:20250712T162943Z
UID:10000101-1757174400-1757178000@www.dlrc.org
SUMMARY:Einladung zur Landesgruppenversammlung der LG 11 BY
DESCRIPTION:Hiermit laden wir Euch recht herzlich zu unserer Landesgruppenversammlung 2025 ein. Dieses Jahr findet die Versammlung im Rahmen des Geländetreffens Demlinger Steinbruch am Samstag\, den 06.09.2025 um 16.00 Uhr im Campgelände unter Bäumen (bei Regen unter der Pergola der Hütte) statt. Weitere Infos zum Treffen im RB und unserer Homepage. \nTagesordnungspunkte: \nTOP 1: Begrüßung \nTOP 2: Bericht des LO \nTOP 3: Anträge und Themen der Mitglieder \nTOP 4: Planung Offroadparkbesuch + Nikolausausfahrt 2025 \nTOP 5: Ausblick und Planung 2026 \nTOP 6: Aussprache \nTOP 7: Sonstiges \nAnträge/Wünsche/Themen der Mitglieder bitte mindestens zwei Wochen vorher an LO Marinus schicken: bayern@dlrg.org. \nAuf Euer zahlreiches Kommen zum Treffen und die LGV am Samstag freuen wir uns. \nMarinus & Jörg \n 
URL:https://www.dlrc.org/event/einladung-zur-landesgruppenversammlung-der-lg-11/
LOCATION:Demlinger Steinbruch
CATEGORIES:LG 11 BY
ORGANIZER;CN="DLRC LG 11 BY":MAILTO:bayern@dlrc.org
END:VEVENT
END:VCALENDAR