BEGIN:VCALENDAR
VERSION:2.0
PRODID:-//Deutscher Land Rover Club - ECPv6.15.20//NONSGML v1.0//EN
CALSCALE:GREGORIAN
METHOD:PUBLISH
X-WR-CALNAME:Deutscher Land Rover Club
X-ORIGINAL-URL:https://www.dlrc.org
X-WR-CALDESC:Veranstaltungen für Deutscher Land Rover Club
REFRESH-INTERVAL;VALUE=DURATION:PT1H
X-Robots-Tag:noindex
X-PUBLISHED-TTL:PT1H
BEGIN:VTIMEZONE
TZID:Europe/Berlin
BEGIN:DAYLIGHT
TZOFFSETFROM:+0100
TZOFFSETTO:+0200
TZNAME:CEST
DTSTART:20230326T010000
END:DAYLIGHT
BEGIN:STANDARD
TZOFFSETFROM:+0200
TZOFFSETTO:+0100
TZNAME:CET
DTSTART:20231029T010000
END:STANDARD
BEGIN:DAYLIGHT
TZOFFSETFROM:+0100
TZOFFSETTO:+0200
TZNAME:CEST
DTSTART:20240331T010000
END:DAYLIGHT
BEGIN:STANDARD
TZOFFSETFROM:+0200
TZOFFSETTO:+0100
TZNAME:CET
DTSTART:20241027T010000
END:STANDARD
BEGIN:DAYLIGHT
TZOFFSETFROM:+0100
TZOFFSETTO:+0200
TZNAME:CEST
DTSTART:20250330T010000
END:DAYLIGHT
BEGIN:STANDARD
TZOFFSETFROM:+0200
TZOFFSETTO:+0100
TZNAME:CET
DTSTART:20251026T010000
END:STANDARD
END:VTIMEZONE
BEGIN:VEVENT
DTSTART;TZID=Europe/Berlin:20240224T093000
DTEND;TZID=Europe/Berlin:20240226T140000
DTSTAMP:20260420T235610
CREATED:20231130T190034Z
LAST-MODIFIED:20240218T101045Z
UID:10000092-1708767000-1708956000@www.dlrc.org
SUMMARY:18. Wintertreffen im Gerlaser Forsthaus der LG 11 BY
DESCRIPTION:Einladung zum 18.Saugrillen im Gerlaser Forsthaus \nSamstag: Ausfahrt bzw Roadbook-Tour ab 09.30 Uhr\, abends leckeres von der Sau \nSonntag: Forsthaus besenrein verlassen\, Abreise \nGanzes Wochenende gemütliches rumsitzen quatschen usw… \nInfrastruktur: uriges Wanderheim mit allem Notwendigen wie Duschen\, WC\, Warm- und Kaltwasser\, Küche\, Matratzenlager\, offenem Kamin \nDas gesamte Wochenende ist Selbstversorgung mit Ausnahme des Samstagabend. Da gibt es die namensgebende  Pflichtsau für 15 €/Person. \nDann noch der obligatorische Hinweis auf die “Saugrill”-Tradition: jeder Anreisende bringt aus seiner Region eine Kiste Bier mit oder was auch immer so als regionale flüssige Spezialität gehandelt wird. \nFür DLRC-Mitglieder ist die Teilnahme frei. Nichtmitglieder bezahlen pro Übernachtung und Person 15\,- €\, dies gilt auch für “Landy-\, Wohnwagen-\, Zelt-\, Hotelschläfer” usw. Tages-/Abendbesucher (Nichtmitglieder) bezahlen 10€/Person/Besuch. \n  \nAnmeldung erforderlich unter bayern@dlrc.org \n  \n 
URL:https://www.dlrc.org/event/17-saugrillen-der-lg-11-bayern/
LOCATION:Gerlaser Forsthaus\, Forsthaus Gerlas\, Bad Steben\, Bayern\, 95138
CATEGORIES:LG 11 BY
ORGANIZER;CN="DLRC LG 11 BY":MAILTO:bayern@dlrc.org
END:VEVENT
END:VCALENDAR