BEGIN:VCALENDAR
VERSION:2.0
PRODID:-//Deutscher Land Rover Club - ECPv6.15.20//NONSGML v1.0//EN
CALSCALE:GREGORIAN
METHOD:PUBLISH
X-WR-CALNAME:Deutscher Land Rover Club
X-ORIGINAL-URL:https://www.dlrc.org
X-WR-CALDESC:Veranstaltungen für Deutscher Land Rover Club
REFRESH-INTERVAL;VALUE=DURATION:PT1H
X-Robots-Tag:noindex
X-PUBLISHED-TTL:PT1H
BEGIN:VTIMEZONE
TZID:Europe/Berlin
BEGIN:DAYLIGHT
TZOFFSETFROM:+0100
TZOFFSETTO:+0200
TZNAME:CEST
DTSTART:20230326T010000
END:DAYLIGHT
BEGIN:STANDARD
TZOFFSETFROM:+0200
TZOFFSETTO:+0100
TZNAME:CET
DTSTART:20231029T010000
END:STANDARD
BEGIN:DAYLIGHT
TZOFFSETFROM:+0100
TZOFFSETTO:+0200
TZNAME:CEST
DTSTART:20240331T010000
END:DAYLIGHT
BEGIN:STANDARD
TZOFFSETFROM:+0200
TZOFFSETTO:+0100
TZNAME:CET
DTSTART:20241027T010000
END:STANDARD
BEGIN:DAYLIGHT
TZOFFSETFROM:+0100
TZOFFSETTO:+0200
TZNAME:CEST
DTSTART:20250330T010000
END:DAYLIGHT
BEGIN:STANDARD
TZOFFSETFROM:+0200
TZOFFSETTO:+0100
TZNAME:CET
DTSTART:20251026T010000
END:STANDARD
END:VTIMEZONE
BEGIN:VEVENT
DTSTART;TZID=Europe/Berlin:20240517T100000
DTEND;TZID=Europe/Berlin:20240520T140000
DTSTAMP:20260420T234631
CREATED:20240218T120014Z
LAST-MODIFIED:20260403T042210Z
UID:10000122-1715940000-1716213600@www.dlrc.org
SUMMARY:Rovertag 2024 in Butzbach
DESCRIPTION:Einladung zum Rovertag 2024 \n  \nMal wieder an Pfingsten und nicht an dem Wochenende nach Pfingsten \nEinladung zum Rovertag 2024 \nPassend zum Termin treffen wir uns auf der Pfingstweide in Butzbach zu unserem Rovertag \nLiebe Mitglieder\, \nim Mai 2024 ist es schon wieder so weit. Wir treffen uns zum Rovertag 2024 mitten in Hessen\, in einer Gegend\, in der man wunderbar Wandern oder Mountainbike fahren kann. Unser Camp werden wir auf dem Segelfluggelände des Aero-Clubs in 35510 Butzbach aufschlagen. Im benachbarten Butzbacher Waldhaus haben wir Sanitäranlagen\, Kühleinrichtungen und eine große überdachte Grillstelle. Dazu ein Kinderspielplatz und natürlich Räumlichkeiten für Workshops\, den Clubshop und einfach zum Zusammensitzen\, falls das Wetter nicht mitspielen sollte. \nFür Campingverweigerer sind 4 Gästezimmer (200 € für das gesamte Treffen) verfügbar. \nFür Getränke ist gesorgt und natürlich wird es auch Kaffee und Brötchen geben. \nBekanntlich sind die besten Partys immer die\, bei denen jeder etwas mitbringt und man anschließend gemütlich beisammen hockt und so möchten wir das 2023 in der Lausitz eingeführte Rovercooking auch für den Samstagabend am diesjährigen Rovertag aufgreifen. Unsere Idee ist\, dass jeder eine kleine Speise für ca. 4 Personen aus Euren mitgebrachten Zutaten anrichtet\, gerne auch in „Tapasgröße“. Sei es Eure übliche Campingmahlzeit aus dem Dutchoven\, der Kartoffelsalat nach Omas Rezept oder einfach nur ein gekauftes Grillwürstchen. Und den Nachtisch nicht vergessen! Im Anschluss daran bringen wir alle Speisen zu einem (kleinen) Buffet und schmausen gemeinsam. \n  \nWas erwartet Euch an den Rovertagen sonst noch? \nFreitag\, den 17.05.2024         \n\nAnreise ab 10 Uhr (eine vorherige Anreise ist nicht möglich)\nAusflüge in die Umgebung\, Roadbooktouren und 2x2 Touren (Wanderungen)\nTrial-Fahrstrecke für Eure RC-Fahrzeuge\nGemeinsam den Grill anheizen\n\nSamstag\, den 18.05.2024 \n\nAusflüge in die Umgebung\, Roadbooktouren und 2x2 Touren (Wanderungen)\nTrial-Fahrstrecke für Eure RC-Fahrzeuge\nClubshop\nKinderspiele und Kinderbasteln\nRundflüge: sind nicht mehr verfügbar.\nHangartour – Segelflugzeugtechnik\nWorkshop "Erste Hilfe – wie helfe ich mir selbst?" ist ausgebucht!\nWorkshop CB- Funktechnik\nGemeinsam den Grill anheizen\nLivemusik im Waldhaus\n\nSonntag\, den 19.05.2024 \n\nAusflüge in die Umgebung\, Roadbooktouren und 2x2 Touren (Wanderungen)\nTrial-Fahrstrecke für Eure RC-Fahrzeuge\nClubshop\nKinderspiele und Kinderbasteln\nRundflüge: sind nicht mehr verfügbar!\nHangartour – Segelflugzeugtechnik\nWorkshop "Erste Hilfe – wie helfe ich mir selbst?" ist ausgebucht!\nWorkshop Fahrzeugtechnik\nPodcast mit Volker Lapp\nGemeinsam den Grill anheizen\nRovercooking\n\nMontag\, den 20.05.2024 \n\nAusflüge in die Umgebung\, Roadbooktouren und 2x2 Touren (Wanderungen)\nTrial-Fahrstrecke für Eure RC-Fahrzeuge\nKinderspiele und Kinderbasteln\nRundflüge: sind nicht mehr verfügbar!.\nCamp abbauen und aufräumen\nAbreise (Spätabreise bis 21.05.2024 um 10 Uhr ist möglich)\n\nAn allen Tagen ist eine Gebrauchtteilebörse vor dem Fahrzeug möglich. \nIm Unkostenbeitrag von 25€/Person für Mitglieder und deren Lebenspartner/-in ist ein T-Shirt enthalten. Kinder bis 15 Jahre zahlen nichts. Diese Regelung gilt auch für Mitglieder ausländischer Land Rover-Clubs. \nAlle anderen Land Rover-Freunde zahlen für ihre Teilnahme 100 €/Person. Kinder bis 15 Jahre zahlen nichts. Eventuell benötigten Strom bezahlt jeder selbst. \nAnmeldungen sind ab dem 01.03.2024 bis zum Anmeldeschluß am 01.05.2024 über unsere Webseite möglich. Wer keinen Zugang zu unserer Webseite hat\, kann sich gerne telefonisch über die Geschäftsstelle von Mo. bis Fr. 10 bis 15 Uhr unter 030 692007420 anmelden. Buchungen von kostenpflichtigen Programmpunkten sind verbindlich \nNähere Informationen gibt es beim Organisationsteam. Diese sind auch für Ideen und Anregungen unter rovertag2024@dlrc.org erreichbar. \nWir freuen uns schon jetzt auf Euer zahlreiches Kommen und einen schönen Rovertag.
URL:https://www.dlrc.org/event/rovertag-2024-in-butzbach/
LOCATION:Waldhaus Butzbach\, Flugplatz Pfingstweide\, Butzbach\, 35510
CATEGORIES:Bundestreffen
ORGANIZER;CN="DLRC":MAILTO:geschaeftsstelle@dlrc.org
END:VEVENT
END:VCALENDAR