BEGIN:VCALENDAR
VERSION:2.0
PRODID:-//Deutscher Land Rover Club - ECPv6.15.20//NONSGML v1.0//EN
CALSCALE:GREGORIAN
METHOD:PUBLISH
X-ORIGINAL-URL:https://www.dlrc.org
X-WR-CALDESC:Veranstaltungen für Deutscher Land Rover Club
REFRESH-INTERVAL;VALUE=DURATION:PT1H
X-Robots-Tag:noindex
X-PUBLISHED-TTL:PT1H
BEGIN:VTIMEZONE
TZID:Europe/Berlin
BEGIN:DAYLIGHT
TZOFFSETFROM:+0100
TZOFFSETTO:+0200
TZNAME:CEST
DTSTART:20230326T010000
END:DAYLIGHT
BEGIN:STANDARD
TZOFFSETFROM:+0200
TZOFFSETTO:+0100
TZNAME:CET
DTSTART:20231029T010000
END:STANDARD
BEGIN:DAYLIGHT
TZOFFSETFROM:+0100
TZOFFSETTO:+0200
TZNAME:CEST
DTSTART:20240331T010000
END:DAYLIGHT
BEGIN:STANDARD
TZOFFSETFROM:+0200
TZOFFSETTO:+0100
TZNAME:CET
DTSTART:20241027T010000
END:STANDARD
BEGIN:DAYLIGHT
TZOFFSETFROM:+0100
TZOFFSETTO:+0200
TZNAME:CEST
DTSTART:20250330T010000
END:DAYLIGHT
BEGIN:STANDARD
TZOFFSETFROM:+0200
TZOFFSETTO:+0100
TZNAME:CET
DTSTART:20251026T010000
END:STANDARD
END:VTIMEZONE
BEGIN:VEVENT
DTSTART;TZID=Europe/Berlin:20240726T160000
DTEND;TZID=Europe/Berlin:20240804T120000
DTSTAMP:20260420T190147
CREATED:20240205T190003Z
LAST-MODIFIED:20240205T195311Z
UID:10000116-1722009600-1722772800@www.dlrc.org
SUMMARY:Der Landy macht Urlaub auf Rügen!
DESCRIPTION:Erneuter Versuch. die Insel Rügen mit dem Landy zu erobern. \nVom Freitag\, 26.Juli bis Sonntag. 4. August 2024 treffen wir uns auf einer schönen Wiese auf Rügen. Es gibt kein festes Programm. Wir entscheiden jeweils an der Gemeinschaftstafel\, was am nächsten Tag anliegt. \nGeboten werden Luxus-Dixies und ein Duschwagen\, schöne Stellplätze ohne Strom\, Shelter für die Futtermeile und Raum für Lagerfeuergespräche\, Spontanexkursionen und kulinarische Exzesse aller Art. \nIn der Nähe gibt es Einkaufsmöglichkeiten und eine idyllische Badestelle. \nEs fallen folgende Kosten an: ca. 100 € pro Person für die ganze Woche. An- und Abreise sind jederzeit möglich. \nAnmeldung nur beim LO der LG 02 Achim Hennig LO unter schleswig-holstein@dlrc.org \nAnreisebeschreibung gibt es mit der Anmeldebestätigung.
URL:https://www.dlrc.org/event/der-landy-macht-urlaub-auf-ruegen/
CATEGORIES:LG 02 SH
ORGANIZER;CN="DLRC LG 02 SH":MAILTO:schleswig-holstein@dlrc.org
END:VEVENT
BEGIN:VEVENT
DTSTART;TZID=Europe/Berlin:20240802T120000
DTEND;TZID=Europe/Berlin:20240804T140000
DTSTAMP:20260420T190147
CREATED:20240302T184653Z
LAST-MODIFIED:20260403T042213Z
UID:10000162-1722600000-1722780000@www.dlrc.org
SUMMARY:Allgäutreffen der LG 10 BW und LG 11 BY
DESCRIPTION: \n \n \nEs fließt wieder „Milch & Honig“......\n  \n  \n......beim gemütlichen Campwochenende auf der grünen Wiese beim Milchviehbetrieb Lutz in Böhen bei Altusried. \nGeboten wird Lagerfeuer (Witterungsabhängig)\, je nach Unterstützung einen kleinen Trial oder einen Spaß-Trophy in der Rückegasse\, Wandermöglichkeiten\, Allgäu-Rundfahrten mit interessanten Anlaufpunkten oder einfach nur das Landleben genießen… \nDixis und Brauchwasser sind vorhanden\, ein Wirtshaus und Metzger in ca. 2 km Entfernung. Nach alter Bayern-Tradition dürft Ihr gerne eine Bier- oder sonstige Getränkespezialität aus eurer Region mitbringen. \nAnreise Freitag ab 12 Uhr möglich \nWeitergehende Informationen (keine Anmeldung) bei Volker Steingrube unter 0151 42852430 oder trial@dlrc.org \nAnmeldung bitte bis zum 28.07.2024 über den untenstehenden Button
URL:https://www.dlrc.org/event/allgaeutreffen-der-lg-10-bw-und-lg-11-by/
LOCATION:Böhen
CATEGORIES:LG 10 BW,LG 11 BY
ORGANIZER;CN="DLRC LG 10 BW":MAILTO:baden-wuerttemberg@dlrc.org
END:VEVENT
END:VCALENDAR