BEGIN:VCALENDAR
VERSION:2.0
PRODID:-//Deutscher Land Rover Club - ECPv6.15.20//NONSGML v1.0//EN
CALSCALE:GREGORIAN
METHOD:PUBLISH
X-WR-CALNAME:Deutscher Land Rover Club
X-ORIGINAL-URL:https://www.dlrc.org
X-WR-CALDESC:Veranstaltungen für Deutscher Land Rover Club
REFRESH-INTERVAL;VALUE=DURATION:PT1H
X-Robots-Tag:noindex
X-PUBLISHED-TTL:PT1H
BEGIN:VTIMEZONE
TZID:Europe/Berlin
BEGIN:DAYLIGHT
TZOFFSETFROM:+0100
TZOFFSETTO:+0200
TZNAME:CEST
DTSTART:20230326T010000
END:DAYLIGHT
BEGIN:STANDARD
TZOFFSETFROM:+0200
TZOFFSETTO:+0100
TZNAME:CET
DTSTART:20231029T010000
END:STANDARD
BEGIN:DAYLIGHT
TZOFFSETFROM:+0100
TZOFFSETTO:+0200
TZNAME:CEST
DTSTART:20240331T010000
END:DAYLIGHT
BEGIN:STANDARD
TZOFFSETFROM:+0200
TZOFFSETTO:+0100
TZNAME:CET
DTSTART:20241027T010000
END:STANDARD
BEGIN:DAYLIGHT
TZOFFSETFROM:+0100
TZOFFSETTO:+0200
TZNAME:CEST
DTSTART:20250330T010000
END:DAYLIGHT
BEGIN:STANDARD
TZOFFSETFROM:+0200
TZOFFSETTO:+0100
TZNAME:CET
DTSTART:20251026T010000
END:STANDARD
END:VTIMEZONE
BEGIN:VEVENT
DTSTART;TZID=Europe/Berlin:20240823T120000
DTEND;TZID=Europe/Berlin:20240825T150000
DTSTAMP:20260420T203032
CREATED:20240506T192940Z
LAST-MODIFIED:20240506T192940Z
UID:10000168-1724414400-1724598000@www.dlrc.org
SUMMARY:Sommerfest der LG12 TH und 13 SN
DESCRIPTION:In das Treffen starten wir am Freitag um 16:00 Uhr zu einer Führung mit Andi durch die Whiskywelt Burg Scharfenstein. \nAm Samstag geht es dann ab ca. 10:00 Uhr auf 2 Achsen los zu einer gemeinsamen Ausfahrt mit Highlight & Picknick unterwegs. Per Pedes gibt es auch Wandermöglichkeiten in der Umgebung. \nAbends dann ab ca. 18:00 Uhr gemeinsames Rovercooking und Feuerschalen-Hock. Jeder steuert ein paar Portionen seines Lieblings-Unterwegs-Gerichtes zum Rovercooking bei: Brote\, Salate\, Grillgerichte\, Suppen\, DutchOven\, Desserts\, Obst\, Gebäck\, Knabberzeug usw.. Kochgelegenheiten sind vorhanden. Bitte bringt Feuerholz\, Grillkohle und Getränke mit. Einen Brötchenservice zum Frühstück organisieren wir\, sonst ist Selbstversorgung angesagt. \nAuf dem Campgelände sind sehr ordentliche Sanitärräume incl. Duschen vorhanden. Den Unkostenbeitrag in Höhe von 15€/Person für den Stellplatz (incl. Sanitär\, Wasser und Strom incl.) bezahlt jeder selbst. Eine begrenzte Vermittlung von Übernachtungsmöglichkeiten ist möglich\, bitte anfragen! \nUm Anmeldung beim LO Maik Weber unter thueringen-sachsen@dlrc.org bis spätestens 09.08.2024 wird gebeten. Spontan geht natürlich auch immer. \nHerzliche Grüße \nMaik Weber
URL:https://www.dlrc.org/event/sommerfest-der-lg12-th-und-13-sn/
LOCATION:Burg Scharfenstein\, Scharfenstein 3\, Leinefelde-Worbis\, 37327
CATEGORIES:LG 12 TH, 13 SN
ORGANIZER;CN="DLRC LG 12 TH%2C 13 SN":MAILTO:thueringen-sachsen@dlrc.org
GEO:51°21'47.6"N;10°15'59.7"E
X-APPLE-STRUCTURED-LOCATION;VALUE=URI;X-ADDRESS=Burg Scharfenstein Scharfenstein 3 Leinefelde-Worbis 37327;X-APPLE-RADIUS=500;X-TITLE=Scharfenstein 3:geo:10°15'59.7"E,51°21'47.6"N
END:VEVENT
END:VCALENDAR