BEGIN:VCALENDAR
VERSION:2.0
PRODID:-//Deutscher Land Rover Club - ECPv6.15.20//NONSGML v1.0//EN
CALSCALE:GREGORIAN
METHOD:PUBLISH
X-ORIGINAL-URL:https://www.dlrc.org
X-WR-CALDESC:Veranstaltungen für Deutscher Land Rover Club
REFRESH-INTERVAL;VALUE=DURATION:PT1H
X-Robots-Tag:noindex
X-PUBLISHED-TTL:PT1H
BEGIN:VTIMEZONE
TZID:Europe/Berlin
BEGIN:DAYLIGHT
TZOFFSETFROM:+0100
TZOFFSETTO:+0200
TZNAME:CEST
DTSTART:20230326T010000
END:DAYLIGHT
BEGIN:STANDARD
TZOFFSETFROM:+0200
TZOFFSETTO:+0100
TZNAME:CET
DTSTART:20231029T010000
END:STANDARD
BEGIN:DAYLIGHT
TZOFFSETFROM:+0100
TZOFFSETTO:+0200
TZNAME:CEST
DTSTART:20240331T010000
END:DAYLIGHT
BEGIN:STANDARD
TZOFFSETFROM:+0200
TZOFFSETTO:+0100
TZNAME:CET
DTSTART:20241027T010000
END:STANDARD
BEGIN:DAYLIGHT
TZOFFSETFROM:+0100
TZOFFSETTO:+0200
TZNAME:CEST
DTSTART:20250330T010000
END:DAYLIGHT
BEGIN:STANDARD
TZOFFSETFROM:+0200
TZOFFSETTO:+0100
TZNAME:CET
DTSTART:20251026T010000
END:STANDARD
END:VTIMEZONE
BEGIN:VEVENT
DTSTART;TZID=Europe/Berlin:20240915T170000
DTEND;TZID=Europe/Berlin:20240922T180000
DTSTAMP:20260422T104223
CREATED:20240131T214805Z
LAST-MODIFIED:20240131T214805Z
UID:10000157-1726419600-1727028000@www.dlrc.org
SUMMARY:Schotterpisten in Albanien
DESCRIPTION:(R)overlander-Reise mit Staub & Schweiß\, Aus- & Ansichten\, Lagerfeuer & Grill\, Bergluft & Meeresbrisen … wir fahren zu den schönsten Ecken dieses urigen Landes\, schauen uns Kultur und Menschen an. \nAnreise individuell\, Treffpunkt am 15.09.2024 auf einem Campingplatz bei Tirana (Albanien). Um 17:00 Uhr findet dort das obligatorische Briefing statt. Ab Montag sind wir 7 Tage unterwegs. Übernachtung an wechselnden Standorten offgrid & freistehend oder auf einfachen Campingplätzen im eigenen Fahrzeug/Zelt/Dachzelt. Die Tagesetappen werden in der Kolonne nach vorgeplanter Route zurückgelegt. Die Tour geht über teils anspruchsvolle Streckenabschnitte (felsig\, steinig\, schlammig\, sandig\, Furten & Lackkratzer möglich)\, überwiegend auf unbefestigten Wegen und ins dünn besiedelte Hochgebirge. Unterwegs kaufen wir nur gelegentlich das Nötigste und Tanken die Fahrzeuge bzw. Wasservorräte auf. Am Sonntag kommen wir am Meer bei Fier an. Anschließend Rückreise individuell \nMindestanforderungen an die Fahrzeuge: AT-Reifen\, ausreichend Bodenfreiheit\, ein vollwertiges Reserverad\, Fahrzeughöhe maximal 2\,5 m\, Anhänger sind erlaubt\, wenn diese genauso geländegängig sind\, wie das Zugfahrzeug. Eigenes Bergematerial\, Werkzeug und gegebenenfalls Ersatzteile sollten mitgeführt werden. \nMindestanforderungen an die FahrerInnen: Geländeerfahrung\, Disziplin bei der morgendlichen\, pünktlichen Abfahrt. \nIm Anschluss nach der Tour wird ein Track-Book mit Fotos erstellt und an die Teilnehmer verschickt. \nTeilnehmerbeitrag 125 € je Fahrzeug. Darin enthalten sind das Track-Book\, ein T-Shirt (Größe bei Anmeldung angeben) und ein Aufkleber pro Fahrzeug. \nWeitere T-Shirts für 25€/Stück\, Aufkleber für 7€/Stück erhältlich. \nMaximal 8 Fahrzeuge\, Teilnehmer werden in der Reihenfolge der eingehenden Anmeldungen und erst nach Zahlung des Startgeldes gebucht\, eine Warteliste ist möglich \nInfos\, verbindliche Anmeldung und Zahlung des Startgeldes bis 30.06.2024 bei Maik Weber unter thueringen-sachsen@dlrc.org.
URL:https://www.dlrc.org/event/schotterpisten-in-albanien/
CATEGORIES:LG 12 TH, 13 SN
ORGANIZER;CN="DLRC LG 12 TH%2C 13 SN":MAILTO:thueringen-sachsen@dlrc.org
END:VEVENT
BEGIN:VEVENT
DTSTART;TZID=Europe/Berlin:20240920T160000
DTEND;TZID=Europe/Berlin:20240922T130000
DTSTAMP:20260422T104223
CREATED:20240703T185818Z
LAST-MODIFIED:20260403T042219Z
UID:10000170-1726848000-1727010000@www.dlrc.org
SUMMARY:Höhlentour über die Schwäbische Alb mit der LG 10 BW
DESCRIPTION:Es wird unterirdisch..\n  \nDie Schwäbische Alb ist eines der größten zusammenhängenden Karstgebiete in Deutschland. Bekannt sind rund 2500 Höhlen – die meisten allerdings nicht öffentlich begehbar. Von den „Öffentlichen“ haben wir 4 Höhlen ausgewählt\, die wir am Samstag besuchen wollen. Darunter werden die Wimsener Höhle (die einzige mit einem Kahn befahrbare Wasserhöhle Deutschlands)\, der Hohle Fels (bedeutender archäologischer Fundplatz)\, die Sontheimer Höhle (älteste Schauhöhle Deutschlands) und die Laichinger Tiefenhöhle (tiefste begehbare Schauhöhle). \nHinweis: Wer die Wimsener Höhle besuchen möchte\, sollte sich frühzeitig ein Online-Ticket kaufen – sonst „drohen“ Wartezeiten bis zu 2 Stunden: https://www.tressbrueder.de/wimsener-hoehle/ \nIn Blaubeuren – das auf unserem Weg liegt – entspringt die wohl bekannteste Karstquelle Deutschlands\, der Blautopf. Im Untergrund des Blautopfs verbirgt sich die Blauhöhle\, und damit verbunden ein riesiges Höhlensystem – leider für Besucher nicht zugänglich. Zugänglich sind dafür die Gasthäuser und Cafés rund um den Blautopf. Auch die Höhlenrasthäuser an der Sontheimer Höhle und der Laichinger Tiefenhöhle laden zur Einkehr ein. \nAm Sonntag wäre auch ein Besuch der Bärenhöhle (Schauhöhle mit Bärenskelett) bei Sonnenbühl-Erpfingen und/oder die Nebelhöhle (sehr alte Tropfsteinhöhle) bei Sonnenbühl-Genkingen. \nFreitag: Anreise\, Lagerfeuer\, Grillen\, Selbstversorgung \nSamstag: Rundfahrt über die Schwäbische Alb mit Höhlenbesuchen\, abends Lagerfeuer\, Grillen\, Selbstversorgung \nSonntag: Abreise\, evtl. Besuch weiterer Höhlen auf eigene Faust \nDas ganze Wochenende über ist Selbstversorgung. Vor Ort ist ein Dixie-Klo\, ein großer Grill\, Wasser und Strom. Wichtig: bitte Feuerholz mitbringen! \nAnfahrt aus allen Himmelsrichtungen nach 72813 St. Johann-Bleichstetten\, von der K6708 (Würtingen – Bad Urach) auf die K6709 (Richtung Upfingen) abbiegen\, dem Straßenverlauf folgen und nach ca. 600 m in die Upfinger Straße (Richtung Ortsmitte) abbiegen und am Feuerwehrhaus links in die Wiesentalstraße und nach weiteren 200m in den Eichackerweg abbiegen\, an deren Ende ist die Pferdekoppel über einen kleinen Wiesenweg erreichbar. \nAnmeldung bis 12. September 2024 per untenstehendem Button auf der DLRC-Homepage; \nInfos – keine Anmeldung beim LO: baden-wuerttemberg@dlrc.org \n 
URL:https://www.dlrc.org/event/hoehlentour-ueber-die-schwaebische-alb-mit-der-lg-10-bw/
LOCATION:St.Johann\, Eichackerweg\, St.Johann\, 72813
CATEGORIES:LG 10 BW
ORGANIZER;CN="DLRC LG 10 BW":MAILTO:baden-wuerttemberg@dlrc.org
END:VEVENT
END:VCALENDAR