BEGIN:VCALENDAR
VERSION:2.0
PRODID:-//Deutscher Land Rover Club - ECPv6.15.20//NONSGML v1.0//EN
CALSCALE:GREGORIAN
METHOD:PUBLISH
X-ORIGINAL-URL:https://www.dlrc.org
X-WR-CALDESC:Veranstaltungen für Deutscher Land Rover Club
REFRESH-INTERVAL;VALUE=DURATION:PT1H
X-Robots-Tag:noindex
X-PUBLISHED-TTL:PT1H
BEGIN:VTIMEZONE
TZID:Europe/Berlin
BEGIN:DAYLIGHT
TZOFFSETFROM:+0100
TZOFFSETTO:+0200
TZNAME:CEST
DTSTART:20230326T010000
END:DAYLIGHT
BEGIN:STANDARD
TZOFFSETFROM:+0200
TZOFFSETTO:+0100
TZNAME:CET
DTSTART:20231029T010000
END:STANDARD
BEGIN:DAYLIGHT
TZOFFSETFROM:+0100
TZOFFSETTO:+0200
TZNAME:CEST
DTSTART:20240331T010000
END:DAYLIGHT
BEGIN:STANDARD
TZOFFSETFROM:+0200
TZOFFSETTO:+0100
TZNAME:CET
DTSTART:20241027T010000
END:STANDARD
BEGIN:DAYLIGHT
TZOFFSETFROM:+0100
TZOFFSETTO:+0200
TZNAME:CEST
DTSTART:20250330T010000
END:DAYLIGHT
BEGIN:STANDARD
TZOFFSETFROM:+0200
TZOFFSETTO:+0100
TZNAME:CET
DTSTART:20251026T010000
END:STANDARD
END:VTIMEZONE
BEGIN:VEVENT
DTSTART;TZID=Europe/Berlin:20241012T100000
DTEND;TZID=Europe/Berlin:20241012T170000
DTSTAMP:20260420T103931
CREATED:20240707T185319Z
LAST-MODIFIED:20240805T205627Z
UID:10000175-1728727200-1728752400@www.dlrc.org
SUMMARY:Ausflug in die Elbregion mit der LG 15 MV
DESCRIPTION:Ausflug in die Elbregion und Besuch beim Mike Sanders-Spezialist “Classic Carz” \nWer: alle Interessierten \nWas kostet: nichts \nWas geboten: Werkstattbesichtigung eines langjährigen Defender-Fahrers und Oldtimerrestaurators sowie Mike Sanders-Spezialist. \nAnschließend Ausfahrt in die Elbregion und Besuch der größten Binnnen(wander)düne Europas in Klein-Schmölen \nWas mitbringen: möglichst viele Teilnehmer. Teilnahme nur mit Anmeldung! \nUm Anmeldung beim LO wird bis zum 10.10.2024 gebeten unter mecklenburg-vorpommern@dlrc.org \n 
URL:https://www.dlrc.org/event/ausflug-in-die-elbregion-mit-der-lg-15-mv/
LOCATION:Classic Carz\, Berliner Str.40\, Grabow\, 19300
ORGANIZER;CN="DLRC LG 15 MV":MAILTO:mecklenburg-vorpommern@dlrc.org
END:VEVENT
END:VCALENDAR